BEGIN:VCALENDAR
METHOD:PUBLISH
VERSION:2.0
CALSCALE:GREGORIAN
PRODID:-//NONSGML WPForms//NONSGML Sugar Calendar Feeds v3.11.0//EN
X-WR-CALNAME:El Súper Sábado Aprende Nutrición
X-WR-CALDESC:Youngevity Resource Center
X-WR-TIMEZONE:America/Los_Angeles
BEGIN:VTIMEZONE
TZID:America/Los_Angeles
BEGIN:STANDARD
TZOFFSETFROM:-0700
TZOFFSETTO:-0800
DTSTART:20251102T090000
TZNAME:PST
END:STANDARD
BEGIN:DAYLIGHT
TZOFFSETFROM:-0800
TZOFFSETTO:-0700
DTSTART:20260308T100000
TZNAME:PDT
END:DAYLIGHT
END:VTIMEZONE
BEGIN:VTIMEZONE
TZID:America/Los_Angeles
BEGIN:STANDARD
TZOFFSETFROM:-0700
TZOFFSETTO:-0800
DTSTART:20251102T090000
TZNAME:PST
END:STANDARD
BEGIN:DAYLIGHT
TZOFFSETFROM:-0800
TZOFFSETTO:-0700
DTSTART:20260308T100000
TZNAME:PDT
END:DAYLIGHT
END:VTIMEZONE
BEGIN:VEVENT
SUMMARY:El Súper Sábado Aprende Nutrición
DESCRIPTION:Un evento presencial enfocado en mejorar tu salud y bienesta
 r de forma práctica.\n\nCon la guía de Sanjeev Javia\, exploraremos:\n
 \n✓ Bienestar integral\n\n✓ Control de peso\n\n✓ Salud del hígado
 \n\n✓ Menopausia\n\n✓ Los 90 Nutrientes Esenciales\n\nMás Informaci
 ón &gt\;
URL;VALUE=URI:https://youngevityrc.com/events/el-super-sabado-aprende-nu
 tricion/
UID:urn:uuid:62e45d6e-efda-482c-8d9a-40644bdd86ac
STATUS:CONFIRMED
ORGANIZER:
DTSTAMP:20260423T090357Z
DTSTART;TZID=America/Los_Angeles:20260411T100000
DTEND;TZID=America/Los_Angeles:20260411T140000
END:VEVENT
END:VCALENDAR