BEGIN:VCALENDAR
METHOD:PUBLISH
VERSION:2.0
CALSCALE:GREGORIAN
PRODID:-//NONSGML WPForms//NONSGML Sugar Calendar Feeds v3.11.0//EN
X-WR-CALNAME:Hair-On-Fire
X-WR-CALDESC:Youngevity Resource Center
X-WR-TIMEZONE:America/Los_Angeles
BEGIN:VTIMEZONE
TZID:America/Los_Angeles
BEGIN:DAYLIGHT
TZOFFSETFROM:-0800
TZOFFSETTO:-0700
DTSTART:20260308T100000
TZNAME:PDT
END:DAYLIGHT
END:VTIMEZONE
BEGIN:VTIMEZONE
TZID:America/Los_Angeles
BEGIN:DAYLIGHT
TZOFFSETFROM:-0800
TZOFFSETTO:-0700
DTSTART:20260308T100000
TZNAME:PDT
END:DAYLIGHT
END:VTIMEZONE
BEGIN:VEVENT
SUMMARY:Hair On Fire
DESCRIPTION:Black Diamond Ambassador\, Tom Chenault and 3 Star Lany Shar
 p will get you going in the morning with Daily updates and FUN/Inspirati
 on! Plus\, tune in on Mondays to hear from special guest\, Dr. Joel Wall
 ach!\n\n11:00 AM PST\n\nTomChenaultZoom.com
URL;VALUE=URI:https://youngevityrc.com/sc_recurring_event/hair-on-fire-2
 -3/
UID:urn:uuid:ef70cf0a-4d58-4514-a8aa-58e6f33bedc8
STATUS:CONFIRMED
ORGANIZER:
DTSTAMP:20260420T153618Z
DTSTART;TZID=America/Los_Angeles:20260504T110000
DTEND;TZID=America/Los_Angeles:20260504T120000
RRULE:FREQ=WEEKLY;INTERVAL=1
END:VEVENT
END:VCALENDAR