BEGIN:VCALENDAR
METHOD:PUBLISH
VERSION:2.0
CALSCALE:GREGORIAN
PRODID:-//NONSGML WPForms//NONSGML Sugar Calendar Feeds v3.11.0//EN
X-WR-CALNAME:The 90 for Life™ Forum
X-WR-CALDESC:Youngevity Resource Center
X-WR-TIMEZONE:America/Los_Angeles
BEGIN:VTIMEZONE
TZID:America/Los_Angeles
BEGIN:DAYLIGHT
TZOFFSETFROM:-0800
TZOFFSETTO:-0700
DTSTART:20250309T100000
TZNAME:PDT
END:DAYLIGHT
END:VTIMEZONE
BEGIN:VTIMEZONE
TZID:America/Los_Angeles
BEGIN:DAYLIGHT
TZOFFSETFROM:-0800
TZOFFSETTO:-0700
DTSTART:20250309T100000
TZNAME:PDT
END:DAYLIGHT
END:VTIMEZONE
BEGIN:VEVENT
SUMMARY:The 90 for Life™ Forum
DESCRIPTION:Please join Dr. Conaway tonight when she'll continue her se
 ries on why "You Are The Only You".  No two people are alike is true in
  many ways and is always important to remember when we are helping peop
 le achieve optimal wellness. Part of what makes us unique is our gut mi
 crobiome and research is showing a healthy gut microbiome is critical 
 for overall wellness.  Tonight\, Dr. Conaway will share some recent res
 earch and her suggestions to help achieve and maintain optimal health.\
 n\n5:00PM PT\, 6:00PM MT\, 7:00PM CT\, 8:00PM ET\n\nMeeting ID# 535 051 
 1918 or go to zoom.us/j/5350511918\n\nJoin Zoom Meeting\nhttps://us06web
 .zoom.us/j/5350511918\nMeeting ID: 535 051 1918\nPasscode: 904Life\n\nDi
 al in: 646 931 3860\nMeeting ID: 535 051 1918\nPasscode: 3086698
URL;VALUE=URI:https://youngevityrc.com/events/the-90-for-life-forum-12/
UID:urn:uuid:373ee38a-1a94-42af-a535-6619bd15cf80
STATUS:CONFIRMED
ORGANIZER:
DTSTAMP:20260421T120852Z
DTSTART;TZID=America/Los_Angeles:20250624T170000
DTEND;TZID=America/Los_Angeles:20250624T173000
END:VEVENT
END:VCALENDAR