BEGIN:VCALENDAR
METHOD:PUBLISH
VERSION:2.0
CALSCALE:GREGORIAN
PRODID:-//NONSGML WPForms//NONSGML Sugar Calendar Feeds v3.11.0//EN
X-WR-CALNAME:The 90 for Life™ Forum
X-WR-CALDESC:Youngevity Resource Center
X-WR-TIMEZONE:America/Los_Angeles
BEGIN:VTIMEZONE
TZID:America/Los_Angeles
BEGIN:STANDARD
TZOFFSETFROM:-0700
TZOFFSETTO:-0800
DTSTART:20251102T090000
TZNAME:PST
END:STANDARD
BEGIN:DAYLIGHT
TZOFFSETFROM:-0800
TZOFFSETTO:-0700
DTSTART:20260308T100000
TZNAME:PDT
END:DAYLIGHT
END:VTIMEZONE
BEGIN:VTIMEZONE
TZID:America/Los_Angeles
BEGIN:STANDARD
TZOFFSETFROM:-0700
TZOFFSETTO:-0800
DTSTART:20251102T090000
TZNAME:PST
END:STANDARD
BEGIN:DAYLIGHT
TZOFFSETFROM:-0800
TZOFFSETTO:-0700
DTSTART:20260308T100000
TZNAME:PDT
END:DAYLIGHT
END:VTIMEZONE
BEGIN:VEVENT
SUMMARY:The 90 for Life™ Forum
DESCRIPTION:Are you suffering from recurrent\, unexplained symptoms and 
 no one can give you answers. Tonight Dr. Conaway will discuss what might
  be the cause. Could it be parasites? If so\, or even maybe\, what can b
 e done?  It is no longer appropriate to discount parasites as the cause
 .  Dr. Conaway will discuss the Dynamic Duo Parasite Cleanse\, various 
 changes recently made to improve the cleanse\, and the reasons she feels
  it is a must for everyone.\nPlease join Dr. Conaway each Tuesday as she
  discusses health issues.\n\n5:00PM PT\, 6:00PM MT\, 7:00PM CT\, 8:00PM 
 ET\n\nMeeting ID# 535 051 1918 or go to zoom.us/j/5350511918\n\nJoin Zoo
 m Meeting\nhttps://us06web.zoom.us/j/5350511918\nMeeting ID: 535 051 191
 8\nPasscode: 904Life\n\nDial in: 646 931 3860\nMeeting ID: 535 051 1918\
 nPasscode: 3086698
URL;VALUE=URI:https://youngevityrc.com/events/the-90-for-life-forum-13-3
 -74/
UID:urn:uuid:9dfe32c5-8f21-4e49-89f7-6c55628b01c4
STATUS:CONFIRMED
ORGANIZER:
DTSTAMP:20260421T133719Z
DTSTART;TZID=America/Los_Angeles:20260421T180000
DTEND;TZID=America/Los_Angeles:20260421T183000
END:VEVENT
END:VCALENDAR