BEGIN:VCALENDAR
METHOD:PUBLISH
VERSION:2.0
CALSCALE:GREGORIAN
PRODID:-//NONSGML WPForms//NONSGML Sugar Calendar Feeds v3.11.0//EN
X-WR-CALNAME:The 90 for Life™ Forum
X-WR-CALDESC:Youngevity Resource Center
X-WR-TIMEZONE:America/Los_Angeles
BEGIN:VTIMEZONE
TZID:America/Los_Angeles
BEGIN:DAYLIGHT
TZOFFSETFROM:-0800
TZOFFSETTO:-0700
DTSTART:20250309T100000
TZNAME:PDT
END:DAYLIGHT
END:VTIMEZONE
BEGIN:VTIMEZONE
TZID:America/Los_Angeles
BEGIN:DAYLIGHT
TZOFFSETFROM:-0800
TZOFFSETTO:-0700
DTSTART:20250309T100000
TZNAME:PDT
END:DAYLIGHT
END:VTIMEZONE
BEGIN:VEVENT
SUMMARY:The 90 for Life™ Forum
DESCRIPTION:NOTE: There will be no call this week. \n\n&nbsp\;\n\n&nbsp
 \;\n\n5:00PM PT\, 6:00PM MT\, 7:00PM CT\, 8:00PM ET\n\nMeeting ID# 535 0
 51 1918 or go to zoom.us/j/5350511918\n\nJoin Zoom Meeting\nhttps://us06
 web.zoom.us/j/5350511918\nMeeting ID: 535 051 1918\nPasscode: 904Life\n\
 nDial in: 646 931 3860\nMeeting ID: 535 051 1918\nPasscode: 3086698
URL;VALUE=URI:https://youngevityrc.com/events/the-90-for-life-forum-2/
UID:urn:uuid:fe8ef62e-4ef8-4ffe-85bd-7ce6a6c85396
STATUS:CONFIRMED
ORGANIZER:
DTSTAMP:20260419T130433Z
DTSTART;TZID=America/Los_Angeles:20250506T170000
DTEND;TZID=America/Los_Angeles:20250506T173000
END:VEVENT
END:VCALENDAR